BEGIN:VCALENDAR
VERSION:2.0
PRODID:-//Action For Happy Kids - ECPv5.14.1//NONSGML v1.0//EN
CALSCALE:GREGORIAN
METHOD:PUBLISH
X-WR-CALNAME:Action For Happy Kids
X-ORIGINAL-URL:https://actionforhappykids.org
X-WR-CALDESC:Events for Action For Happy Kids
REFRESH-INTERVAL;VALUE=DURATION:PT1H
X-Robots-Tag:noindex
X-PUBLISHED-TTL:PT1H
BEGIN:VTIMEZONE
TZID:Europe/Berlin
BEGIN:DAYLIGHT
TZOFFSETFROM:+0100
TZOFFSETTO:+0200
TZNAME:CEST
DTSTART:20210328T010000
END:DAYLIGHT
BEGIN:STANDARD
TZOFFSETFROM:+0200
TZOFFSETTO:+0100
TZNAME:CET
DTSTART:20211031T010000
END:STANDARD
END:VTIMEZONE
BEGIN:VEVENT
DTSTART;TZID=Europe/Berlin:20210809T100000
DTEND;TZID=Europe/Berlin:20210821T180000
DTSTAMP:20260421T143313
CREATED:20210416T105452Z
LAST-MODIFIED:20210416T111041Z
UID:4242-1628503200-1629568800@actionforhappykids.org
SUMMARY:LEAVE THE PLACE A LITTLE BETTER (2)
DESCRIPTION:LEAVE THE PLACE A LITTLE BETTER (2)\n10 Tage Barcamp in Englischer Sprache zum Zero Waste Management mit indischen Experten. Wir werden euch verschiedene Modelle vorstellen\, Zusammmenhänge diskutieren\, ihr bekommt praktische Aufgaben\, die wir anschließend reflektieren und die Möglichkeit eure Ideen mit Support zu entwickeln. \n  \n 
URL:https://actionforhappykids.org/event/leave-the-place-a-little-better-2/
ORGANIZER;CN="THEIA%20INTERNATIONAL%20E.V":MAILTO:HELLO@THEIA-INTERNATIONAL.ORG
END:VEVENT
END:VCALENDAR